Workbook

Sheet Blad1
A1: Formulier Groepsinschrijvingen Halve Marathon Aalst
A2: Gelieve dit ingevulde formulier door te sturen naar running@maspoe.be
A3: Groepsnaam | G3: Stad/Gemeente
A4: Naam Verantwoordelijke | G4: GSM Verantwoordelijke
A5: Email Verantwoordelijke I | G5: Email Verantwoordelijke II
A6: Betalingsgegevens | B6: Betalingsgegevens | C6: Maspoe BVBA - BE59 0689 1008 3026 / BIC: GKCCBEBB Mededeling: Halve Marathon Aalst + "Groepsnaam"
A7: Deelnemers | H7: Kostprijs
A8: # | B8: Naam | C8: Voornaam | D8: Geboortedatum | E8: Postcode | F8: Geslacht | G8: Afstand (keuzeselectie) | H8: Prijs p/pers | I8: Subtotaal | J8: Korting | K8: Totaal (-korting)
A9: 1 | H9: =VLOOKUP($G9,Blad2!$A:$B,2,0) -> #N/A | I9: =SUM(H9) -> #N/A | J9: - | K9: =SUM(I9-(PRODUCT(I9,J9))) -> #N/A
A10: 2 | H10: =VLOOKUP($G10,Blad2!$A:$B,2,0) -> #N/A | I10: =SUM(H$9:$H10) -> #N/A | J10: - | K10: =SUM(I10-(PRODUCT(I10,J10))) -> #N/A
A11: 3 | H11: =VLOOKUP($G11,Blad2!$A:$B,2,0) -> #N/A | I11: =SUM(H$9:$H11) -> #N/A | J11: - | K11: =SUM(I11-(PRODUCT(I11,J11))) -> #N/A
A12: 4 | H12: =VLOOKUP($G12,Blad2!$A:$B,2,0) -> #N/A | I12: =SUM(H$9:$H12) -> #N/A | J12: - | K12: =SUM(I12-(PRODUCT(I12,J12))) -> #N/A
A13: 5 | H13: =VLOOKUP($G13,Blad2!$A:$B,2,0) -> #N/A | I13: =SUM(H$9:$H13) -> #N/A | J13: - | K13: =SUM(I13-(PRODUCT(I13,J13))) -> #N/A
A14: 6 | H14: =VLOOKUP($G14,Blad2!$A:$B,2,0) -> #N/A | I14: =SUM(H$9:$H14) -> #N/A | J14: - | K14: =SUM(I14-(PRODUCT(I14,J14))) -> #N/A
A15: 7 | H15: =VLOOKUP($G15,Blad2!$A:$B,2,0) -> #N/A | I15: =SUM(H$9:$H15) -> #N/A | J15: - | K15: =SUM(I15-(PRODUCT(I15,J15))) -> #N/A
A16: 8 | H16: =VLOOKUP($G16,Blad2!$A:$B,2,0) -> #N/A | I16: =SUM(H$9:$H16) -> #N/A | J16: - | K16: =SUM(I16-(PRODUCT(I16,J16))) -> #N/A
A17: 9 | H17: =VLOOKUP($G17,Blad2!$A:$B,2,0) -> #N/A | I17: =SUM(H$9:$H17) -> #N/A | J17: - | K17: =SUM(I17-(PRODUCT(I17,J17))) -> #N/A
A18: 10 | H18: =VLOOKUP($G18,Blad2!$A:$B,2,0) -> #N/A | I18: =SUM(H$9:$H18) -> #N/A | J18: 0.1 | K18: =SUM(I18-(PRODUCT(I18,J18))) -> #N/A
A19: 11 | H19: =VLOOKUP($G19,Blad2!$A:$B,2,0) -> #N/A | I19: =SUM(H$9:$H19) -> #N/A | J19: 0.1 | K19: =SUM(I19-(PRODUCT(I19,J19))) -> #N/A
A20: 12 | H20: =VLOOKUP($G20,Blad2!$A:$B,2,0) -> #N/A | I20: =SUM(H$9:$H20) -> #N/A | J20: 0.1 | K20: =SUM(I20-(PRODUCT(I20,J20))) -> #N/A
A21: 13 | H21: =VLOOKUP($G21,Blad2!$A:$B,2,0) -> #N/A | I21: =SUM(H$9:$H21) -> #N/A | J21: 0.1 | K21: =SUM(I21-(PRODUCT(I21,J21))) -> #N/A
A22: 14 | H22: =VLOOKUP($G22,Blad2!$A:$B,2,0) -> #N/A | I22: =SUM(H$9:$H22) -> #N/A | J22: 0.1 | K22: =SUM(I22-(PRODUCT(I22,J22))) -> #N/A
A23: 15 | H23: =VLOOKUP($G23,Blad2!$A:$B,2,0) -> #N/A | I23: =SUM(H$9:$H23) -> #N/A | J23: 0.1 | K23: =SUM(I23-(PRODUCT(I23,J23))) -> #N/A
A24: 16 | H24: =VLOOKUP($G24,Blad2!$A:$B,2,0) -> #N/A | I24: =SUM(H$9:$H24) -> #N/A | J24: 0.1 | K24: =SUM(I24-(PRODUCT(I24,J24))) -> #N/A
A25: 17 | H25: =VLOOKUP($G25,Blad2!$A:$B,2,0) -> #N/A | I25: =SUM(H$9:$H25) -> #N/A | J25: 0.1 | K25: =SUM(I25-(PRODUCT(I25,J25))) -> #N/A
A26: 18 | H26: =VLOOKUP($G26,Blad2!$A:$B,2,0) -> #N/A | I26: =SUM(H$9:$H26) -> #N/A | J26: 0.1 | K26: =SUM(I26-(PRODUCT(I26,J26))) -> #N/A
A27: 41 | H27: =VLOOKUP($G27,Blad2!$A:$B,2,0) -> #N/A | I27: =SUM(H$9:$H27) -> #N/A | J27: 0.1 | K27: =SUM(I27-(PRODUCT(I27,J27))) -> #N/A
A28: 20 | H28: =VLOOKUP($G28,Blad2!$A:$B,2,0) -> #N/A | I28: =SUM(H$9:$H28) -> #N/A | J28: 0.2 | K28: =SUM(I28-(PRODUCT(I28,J28))) -> #N/A
A29: 21 | H29: =VLOOKUP($G29,Blad2!$A:$B,2,0) -> #N/A | I29: =SUM(H$9:$H29) -> #N/A | J29: 0.2 | K29: =SUM(I29-(PRODUCT(I29,J29))) -> #N/A
... A108: 100 | H108: =VLOOKUP($G108,Blad2!$A:$B,2,0) -> #N/A | I108: =SUM(H$9:$H108) -> #N/A | J108: 0.2 | K108: =SUM(I108-(PRODUCT(I108,J108))) -> #N/A

Sheet Blad2
A1: 5km | B1: 14
A2: 21km | B2: 30
